
BEGIN:VCALENDAR
VERSION:2.0
PRODID:-//Jeju Poker Festival//Jeju Poker Festival 2025//EN
BEGIN:VEVENT
UID:01000000-a9fe-0a58-236b-08ddefa10b76
DTSTAMP:20251101T000000Z
DTSTART:20251101T000000Z
DTEND:20251112T000000Z
SUMMARY:Jeju Poker Festival 2025
DESCRIPTION:Jeju Poker Festival > 2025 > Jeju Poker Festival 2025
LOCATION:LES A Casino, Jeju, South Korea
END:VEVENT
END:VCALENDAR
