
BEGIN:VCALENDAR
VERSION:2.0
PRODID:-//Asian Poker Tours & Circuits//J88PT Ultra Stack//EN
BEGIN:VEVENT
UID:01000000-a9fe-0a58-e741-08dca95d9192
DTSTAMP:20190918T000000Z
DTSTART:20190918T000000Z
DTEND:20190923T000000Z
SUMMARY:J88PT Ultra Stack
DESCRIPTION:Asian Poker Tours & Circuits > 2019 > J88PT Ultra Stack
LOCATION:Ace8 International Poker Association, Taipei City, Taiwan
END:VEVENT
END:VCALENDAR
