
BEGIN:VCALENDAR
VERSION:2.0
PRODID:-//Asian Poker Tours & Circuits//J88PT Shanghai 2019//EN
BEGIN:VEVENT
UID:01000000-a9fe-0a58-e64b-08dca95d9192
DTSTAMP:20191001T000000Z
DTSTART:20191001T000000Z
DTEND:20191006T000000Z
SUMMARY:J88PT Shanghai 2019
DESCRIPTION:Asian Poker Tours & Circuits > 2019 > J88PT Shanghai 2019
LOCATION:WanTi Club, Beijing, China
END:VEVENT
END:VCALENDAR
