
BEGIN:VCALENDAR
VERSION:2.0
PRODID:-//Asian Poker Tours & Circuits//India Poker Championship//EN
BEGIN:VEVENT
UID:01000000-a9fe-0a58-e732-08dca95d9192
DTSTAMP:20190911T000000Z
DTSTART:20190911T000000Z
DTEND:20190915T000000Z
SUMMARY:India Poker Championship
DESCRIPTION:Asian Poker Tours & Circuits > 2019 > India Poker Championship
LOCATION:Big Daddy Casino, Panaji, India
END:VEVENT
END:VCALENDAR
