
BEGIN:VCALENDAR
VERSION:2.0
PRODID:-//Hanoi Series of Poker//HSOP Hanoi Series of Poker New Era//EN
BEGIN:VEVENT
UID:01000000-a9fe-0a58-1044-08dce6e2d7b6
DTSTAMP:20241025T000000Z
DTSTART:20241025T000000Z
DTEND:20241103T000000Z
SUMMARY:HSOP Hanoi Series of Poker New Era
DESCRIPTION:Hanoi Series of Poker > 2024 > HSOP Hanoi Series of Poker New Era
LOCATION:Grand Loyal Poker Club, Hanoi, Viet Nam
END:VEVENT
END:VCALENDAR
