
BEGIN:VCALENDAR
VERSION:2.0
PRODID:-//China Poker Games//CPG Masters 2025//EN
BEGIN:VEVENT
UID:01000000-a9fe-0a58-d5bd-08dddcec47e3
DTSTAMP:20251219T000000Z
DTSTART:20251219T000000Z
DTEND:20251225T000000Z
SUMMARY:CPG Masters 2025
DESCRIPTION:China Poker Games > 2025 > CPG Masters 2025
LOCATION:JW Marriott Sanya Dadonghai Bay, Sanya, China
END:VEVENT
END:VCALENDAR
