
BEGIN:VCALENDAR
VERSION:2.0
PRODID:-//Asian Poker Tour//Asian Poker Tour (APT) Taiwan 2020//EN
BEGIN:VEVENT
UID:01000000-a9fe-0a58-e4e9-08dca95d9192
DTSTAMP:20200304T000000Z
DTSTART:20200304T000000Z
DTEND:20200315T000000Z
SUMMARY:Asian Poker Tour (APT) Taiwan 2020
DESCRIPTION:Asian Poker Tour > 2020 > Asian Poker Tour (APT) Taiwan 2020
LOCATION:Chinese Texas Hold’em Poker Association, Taipei City, Taiwan
END:VEVENT
END:VCALENDAR
