
BEGIN:VCALENDAR
VERSION:2.0
PRODID:-//Asian Poker Tour//APT Phu Quoc Vietnam 2024//EN
BEGIN:VEVENT
UID:01000000-a9fe-0a58-d2d8-08dce6ec2fc9
DTSTAMP:20241108T000000Z
DTSTART:20241108T000000Z
DTEND:20241117T000000Z
SUMMARY:APT Phu Quoc Vietnam 2024
DESCRIPTION:Asian Poker Tour > 2024 > APT Phu Quoc Vietnam 2024
LOCATION:Corona Casino and Resort, Phú Quốc, Viet Nam
END:VEVENT
END:VCALENDAR
