
BEGIN:VCALENDAR
VERSION:2.0
PRODID:-//Asian Poker Tour//APT Phillippines 2021 (CANCELLED)//EN
BEGIN:VEVENT
UID:01000000-a9fe-0a58-c062-08dca95d917c
DTSTAMP:20210428T000000Z
DTSTART:20210428T000000Z
DTEND:20210509T000000Z
SUMMARY:APT Phillippines 2021 (CANCELLED)
DESCRIPTION:Asian Poker Tour > 2021 > APT Phillippines 2021 (CANCELLED)
LOCATION:Newport World Resorts, Pasay 1309, Metro Manila, Philippines
END:VEVENT
END:VCALENDAR
