
BEGIN:VCALENDAR
VERSION:2.0
PRODID:-//Asia Pacific Poker Tour//APPT Open Taipei 2020//EN
BEGIN:VEVENT
UID:01000000-a9fe-0a58-e3ff-08dca95d9192
DTSTAMP:20200131T000000Z
DTSTART:20200131T000000Z
DTEND:20200209T000000Z
SUMMARY:APPT Open Taipei 2020
DESCRIPTION:Asia Pacific Poker Tour > 2020 > APPT Open Taipei 2020
LOCATION:Chinese Texas Hold’em Poker Association, Taipei City, Taiwan
END:VEVENT
END:VCALENDAR
