
BEGIN:VCALENDAR
VERSION:2.0
PRODID:-//Asia Pacific Poker Tour//APPT Manila 14 (2023)//EN
BEGIN:VEVENT
UID:01000000-a9fe-0a58-ba2a-08dca95d919f
DTSTAMP:20230727T000000Z
DTSTART:20230727T000000Z
DTEND:20230806T000000Z
SUMMARY:APPT Manila 14 (2023)
DESCRIPTION:Asia Pacific Poker Tour > 2023 > APPT Manila 14 (2023)
LOCATION:Okada Manila, Manila, Philippines
END:VEVENT
END:VCALENDAR
