
BEGIN:VCALENDAR
VERSION:2.0
PRODID:-//Asia Poker Championship//APC Taiwan 2025//EN
BEGIN:VEVENT
UID:01000000-a9fe-0a58-51b5-08dd825f591c
DTSTAMP:20250514T000000Z
DTSTART:20250514T000000Z
DTEND:20250520T000000Z
SUMMARY:APC Taiwan 2025
DESCRIPTION:Asia Poker Championship > 2025 > APC Taiwan 2025
LOCATION:CTP Asia Poker Arena, Taipei City, Taiwan
END:VEVENT
END:VCALENDAR
