
BEGIN:VCALENDAR
VERSION:2.0
PRODID:-//All Japan Poker Championship//All Japan Poker Championship (AJPC) Asian Circuit – Festival 2019//EN
BEGIN:VEVENT
UID:01000000-a9fe-0a58-e575-08dca95d9192
DTSTAMP:20191206T000000Z
DTSTART:20191206T000000Z
DTEND:20191215T000000Z
SUMMARY:All Japan Poker Championship (AJPC) Asian Circuit – Festival 2019
DESCRIPTION:All Japan Poker Championship > 2019 > All Japan Poker Championship (AJPC) Asian Circuit – Festival 2019
LOCATION:Paradise City Incheon, Incheon, South Korea
END:VEVENT
END:VCALENDAR
