
BEGIN:VCALENDAR
VERSION:2.0
PRODID:-//All Japan Poker Championship//AJPC Samurai Circuit Taiwan//EN
BEGIN:VEVENT
UID:01000000-a9fe-0a58-0991-08dcfd036ad7
DTSTAMP:20241112T000000Z
DTSTART:20241112T000000Z
DTEND:20241118T000000Z
SUMMARY:AJPC Samurai Circuit Taiwan
DESCRIPTION:All Japan Poker Championship > 2024 > AJPC Samurai Circuit Taiwan
LOCATION:CTP Asia Poker Arena, Taipei City, Taiwan
END:VEVENT
END:VCALENDAR
