
BEGIN:VCALENDAR
VERSION:2.0
PRODID:-//Asian Poker Tours & Circuits//888poker Millions Superstorm 2020//EN
BEGIN:VEVENT
UID:01000000-a9fe-0a58-00d4-08dca95d918d
DTSTAMP:20200910T000000Z
DTSTART:20200910T000000Z
DTEND:20201011T000000Z
SUMMARY:888poker Millions Superstorm 2020
DESCRIPTION:Asian Poker Tours & Circuits > 2020 > 888poker Millions Superstorm 2020
LOCATION:Horseshoe Las Vegas, Las Vegas, Las Vegas
END:VEVENT
END:VCALENDAR
