
BEGIN:VCALENDAR
VERSION:2.0
PRODID:-//Asian Poker Tours & Circuits//888poker LIVE Poker Weekend – 888 Sochi 2020//EN
BEGIN:VEVENT
UID:01000000-a9fe-0a58-00a5-08dca95d918d
DTSTAMP:20200903T000000Z
DTSTART:20200903T000000Z
DTEND:20200906T000000Z
SUMMARY:888poker LIVE Poker Weekend – 888 Sochi 2020
DESCRIPTION:Asian Poker Tours & Circuits > 2020 > 888poker LIVE Poker Weekend – 888 Sochi 2020
LOCATION:Sochi Casino and Resort, Sochi, Russia
END:VEVENT
END:VCALENDAR
