
BEGIN:VCALENDAR
VERSION:2.0
PRODID:-//World Series of Poker//2017 WSOP Sydney//EN
BEGIN:VEVENT
UID:01000000-a9fe-0a58-1c67-08dca95d9199
DTSTAMP:20171128T000000Z
DTSTART:20171128T000000Z
DTEND:20171218T000000Z
SUMMARY:2017 WSOP Sydney
DESCRIPTION:World Series of Poker > 2017 > 2017 WSOP Sydney
LOCATION:The Star Sydney, Sydney, Australia
END:VEVENT
END:VCALENDAR
