
BEGIN:VCALENDAR
VERSION:2.0
PRODID:-//World Poker Games//WPG Taiwan 2026//Mini Main Sat - WYS@50K//EN
BEGIN:VEVENT
UID:01000000-4909-3915-ed20-08de9c6bd190
DTSTAMP;TZID=Asia/Taipei:20260526T200000
DTSTART;TZID=Asia/Taipei:20260526T200000
DTEND;TZID=Asia/Taipei:20260526T235959
SUMMARY:Mini Main Sat - WYS@50K
DESCRIPTION:Game: Texas Hold'em (NL)\nBuy-In: 2,400 + 400 TWD\nStack: 10,000\nLevels: 12 min\nLate Reg: 7 lvl @  21:27
LOCATION:CTP Asia Poker Arena, Taipei City, Taiwan
END:VEVENT
END:VCALENDAR
