
BEGIN:VCALENDAR
VERSION:2.0
PRODID:-//World Poker Games//WPG Taiwan 2026//Freeroll Satellite to Kick Off //EN
BEGIN:VEVENT
UID:01000000-4909-3915-0b17-08de9c6bcfe0
DTSTAMP;TZID=Asia/Taipei:20260523T100000
DTSTART;TZID=Asia/Taipei:20260523T100000
DTEND;TZID=Asia/Taipei:20260523T235959
SUMMARY:Freeroll Satellite to Kick Off 
DESCRIPTION:Game: Texas Hold'em (NL)\nBuy-In:  +  null\nStack: 10,000\nLevels: 12 min\nLate Reg: 7 lvl @  11:27
LOCATION:CTP Asia Poker Arena, Taipei City, Taiwan
END:VEVENT
END:VCALENDAR
