
BEGIN:VCALENDAR
VERSION:2.0
PRODID:-//Royal Poker Tour//RPT Championship III//PLAYER PARTY//EN
BEGIN:VEVENT
UID:01000000-4909-3915-6c1f-08de9ed76a77
DTSTAMP;TZID=Asia/Hanoi:20260617T130000
DTSTART;TZID=Asia/Hanoi:20260617T130000
DTEND;TZID=Asia/Hanoi:20260617T235959
SUMMARY:PLAYER PARTY
DESCRIPTION:Game: Texas Hold'em (NL)\nBuy-In:  +  VND
LOCATION:Royal Poker Club, Hanoi, Viet Nam
END:VEVENT
END:VCALENDAR
