
BEGIN:VCALENDAR
VERSION:2.0
PRODID:-//Royal Poker Tour//RPT Championship II//RPT MAIN EVENT//EN
BEGIN:VEVENT
UID:01000000-3fa8-b42d-1628-08de6e39fa10
DTSTAMP;TZID=Asia/Hanoi:20260324T130000
DTSTART;TZID=Asia/Hanoi:20260324T130000
DTEND;TZID=Asia/Hanoi:20260328T235959
SUMMARY:RPT MAIN EVENT
DESCRIPTION:Main Event\nFeatured\nGame: Texas Hold'em (NL)\nBuy-In: 20,000,000 + 2,000,000 VND\nGTD: 15,000,000,000 VND\nStack: 40,000
LOCATION:Royal Poker Club, Hanoi, Viet Nam
END:VEVENT
END:VCALENDAR
