
BEGIN:VCALENDAR
VERSION:2.0
PRODID:-//The Singapore Poker Championships//SPC XX//Natural8 Main Event//EN
BEGIN:VEVENT
UID:01000000-002c-8d50-8a4b-08de68d8375c
DTSTAMP;TZID=Asia/Singapore:20260306T130000
DTSTART;TZID=Asia/Singapore:20260306T130000
DTEND;TZID=Asia/Singapore:20260308T235959
SUMMARY:Natural8 Main Event
DESCRIPTION:Main Event\nFeatured\nGame: Texas Hold'em (NL)\nBuy-In: 530 + 70 SGD
LOCATION:MV Aegean Paradise, Singapore, Singapore
END:VEVENT
END:VCALENDAR
