
BEGIN:VCALENDAR
VERSION:2.0
PRODID:-//Taiwan Millions Tournament//TMT Championship 2025//Mini High Roller 6-Max//EN
BEGIN:VEVENT
UID:01000000-a9fe-0a58-3777-08de01a6dcba
DTSTAMP;TZID=Asia/Taipei:20251018T183000
DTSTART;TZID=Asia/Taipei:20251018T183000
DTEND;TZID=Asia/Taipei:20251018T235959
SUMMARY:Mini High Roller 6-Max
DESCRIPTION:Game: Texas Hold'em (NL)\nBuy-In: 13,500 + 1,500 TWD\nStack: 30,000\nLevels: 20 min\nLate Reg: 8 lvl @ 21:30
LOCATION:CTP Asia Poker Arena, Taipei City, Taiwan
END:VEVENT
END:VCALENDAR
