
BEGIN:VCALENDAR
VERSION:2.0
PRODID:-//Taiwan Millions Tournament//TMT Championship 2025//Mini High Roller Battle Stack//EN
BEGIN:VEVENT
UID:01000000-a9fe-0a58-4c10-08de01a6dbe8
DTSTAMP;TZID=Asia/Taipei:20251018T140000
DTSTART;TZID=Asia/Taipei:20251018T140000
DTEND;TZID=Asia/Taipei:20251018T235959
SUMMARY:Mini High Roller Battle Stack
DESCRIPTION:Game: Texas Hold'em (NL)\nBuy-In: 13,500 + 1,500 TWD\nStack: 40,000\nLevels: 60 min\nLate Reg: 3 lvl @ 16:10
LOCATION:CTP Asia Poker Arena, Taipei City, Taiwan
END:VEVENT
END:VCALENDAR
