
BEGIN:VCALENDAR
VERSION:2.0
PRODID:-//Asia Pacific Poker Tour//APPT Championship 2026//Last Chance - Super Hyper Turbo//EN
BEGIN:VEVENT
UID:01000000-3971-2ef2-5a36-08de90b46f6b
DTSTAMP;TZID=Asia/Manila:20261019T190000
DTSTART;TZID=Asia/Manila:20261019T190000
DTEND;TZID=Asia/Manila:20261019T235959
SUMMARY:Last Chance - Super Hyper Turbo
DESCRIPTION:Game: Texas Hold'em (NL)\nBuy-In: 8,448 + 1,552 PHP\nStack: 50,000\nLevels: 5 min\nLate Reg: @ 20:05
LOCATION:Okada Manila, Manila, Philippines
END:VEVENT
END:VCALENDAR
