
BEGIN:VCALENDAR
VERSION:2.0
PRODID:-//Asia Pacific Poker Tour//APPT Championship 2026//Last Chance High Roller - Turbo//EN
BEGIN:VEVENT
UID:01000000-3971-2ef2-169d-08de90b46f4b
DTSTAMP;TZID=Asia/Manila:20261019T160000
DTSTART;TZID=Asia/Manila:20261019T160000
DTEND;TZID=Asia/Manila:20261019T235959
SUMMARY:Last Chance High Roller - Turbo
DESCRIPTION:Game: Texas Hold'em (NL)\nBuy-In: 88,320 + 11,680 PHP\nStack: 100,000\nLevels: 15 min\nLate Reg: @ 18:40
LOCATION:Okada Manila, Manila, Philippines
END:VEVENT
END:VCALENDAR
