
BEGIN:VCALENDAR
VERSION:2.0
PRODID:-//Asia Pacific Poker Tour//APPT Championship 2026//Super Knockout [₱10K Bounty]//EN
BEGIN:VEVENT
UID:01000000-3971-2ef2-19b3-08de90b46f3f
DTSTAMP;TZID=Asia/Manila:20261019T150000
DTSTART;TZID=Asia/Manila:20261019T150000
DTEND;TZID=Asia/Manila:20261019T235959
SUMMARY:Super Knockout [₱10K Bounty]
DESCRIPTION:Game: Texas Hold'em (NL)\nBuy-In: 17,296 + 2,704 PHP\nStack: 30,000\nLevels: 20 min\nLate Reg: @ 18:00
LOCATION:Okada Manila, Manila, Philippines
END:VEVENT
END:VCALENDAR
