
BEGIN:VCALENDAR
VERSION:2.0
PRODID:-//Asia Pacific Poker Tour//APPT Championship 2026//Knockout [₱5K Bounty] - Turbo//EN
BEGIN:VEVENT
UID:01000000-3971-2ef2-5252-08de90b46ef0
DTSTAMP;TZID=Asia/Manila:20261018T200000
DTSTART;TZID=Asia/Manila:20261018T200000
DTEND;TZID=Asia/Manila:20261018T235959
SUMMARY:Knockout [₱5K Bounty] - Turbo
DESCRIPTION:Game: Texas Hold'em (NL)\nBuy-In: 17,096 + 2,904 PHP\nStack: 20,000\nLevels: 15 min\nLate Reg: @ 21:55
LOCATION:Okada Manila, Manila, Philippines
END:VEVENT
END:VCALENDAR
