
BEGIN:VCALENDAR
VERSION:2.0
PRODID:-//Asia Pacific Poker Tour//APPT Championship 2026//APPT High Roller//EN
BEGIN:VEVENT
UID:01000000-3971-2ef2-a119-08de90b46f28
DTSTAMP;TZID=Asia/Manila:20261018T130000
DTSTART;TZID=Asia/Manila:20261018T130000
DTEND;TZID=Asia/Manila:20261019T235959
SUMMARY:APPT High Roller
DESCRIPTION:Featured\nGame: Texas Hold'em (NL)\nBuy-In: 178,560 + 21,440 PHP\nGTD: 5,000,000 PHP\nStack: 50,000
LOCATION:Okada Manila, Manila, Philippines
END:VEVENT
END:VCALENDAR
