
BEGIN:VCALENDAR
VERSION:2.0
PRODID:-//Asia Pacific Poker Tour//APPT Championship 2026//Sunday Marathon//EN
BEGIN:VEVENT
UID:01000000-3971-2ef2-9d85-08de90b46f06
DTSTAMP;TZID=Asia/Manila:20261018T130000
DTSTART;TZID=Asia/Manila:20261018T130000
DTEND;TZID=Asia/Manila:20261018T235959
SUMMARY:Sunday Marathon
DESCRIPTION:Game: Texas Hold'em (NL)\nBuy-In: 4,224 + 776 PHP\nGTD: 1,000,000 PHP\nStack: 20,000
LOCATION:Okada Manila, Manila, Philippines
END:VEVENT
END:VCALENDAR
