
BEGIN:VCALENDAR
VERSION:2.0
PRODID:-//Asia Pacific Poker Tour//APPT Championship 2026//APPT Mini Championship//EN
BEGIN:VEVENT
UID:01000000-3971-2ef2-05bc-08de90b46f1d
DTSTAMP;TZID=Asia/Manila:20261018T130000
DTSTART;TZID=Asia/Manila:20261018T130000
DTEND;TZID=Asia/Manila:20261019T235959
SUMMARY:APPT Mini Championship
DESCRIPTION:Featured\nGame: Texas Hold'em (NL)\nBuy-In: 30,240 + 2,760 PHP\nGTD: 3,000,000 PHP\nStack: 50,000
LOCATION:Okada Manila, Manila, Philippines
END:VEVENT
END:VCALENDAR
