
BEGIN:VCALENDAR
VERSION:2.0
PRODID:-//European Poker Tour//EPT Prague 2025//Qualifier to €1,650 - (WYS@100K)//EN
BEGIN:VEVENT
UID:01000000-a9fe-0a58-0917-08de2ffbb802
DTSTAMP;TZID=Europe/Prague:20251204T120000
DTSTART;TZID=Europe/Prague:20251204T120000
DTEND;TZID=Europe/Prague:20251204T235959
SUMMARY:Qualifier to €1,650 - (WYS@100K)
DESCRIPTION:Game: Texas Hold'em (NL)\nBuy-In: 170 + 30 EUR\nStack: 10,000\nLevels: 20 min\nLate Reg: @ 15:00
LOCATION:King’s Casino Prague, Prague, Czech Republic
END:VEVENT
END:VCALENDAR
