
BEGIN:VCALENDAR
VERSION:2.0
PRODID:-//Poker Dream//Poker Dream Malaysia 15//NLH - Hyper Turbo//EN
BEGIN:VEVENT
UID:01000000-a9fe-0a58-efb4-08dd2f1539af
DTSTAMP;TZID=Asia/Kuala_Lumpur:20250118T235900
DTSTART;TZID=Asia/Kuala_Lumpur:20250118T235900
DTEND;TZID=Asia/Kuala_Lumpur:20250118T235959
SUMMARY:NLH - Hyper Turbo
DESCRIPTION:Game: Texas Hold'em (NL)\nBuy-In: 629 + 171 MYR
LOCATION:Resorts World Genting, Malaysia, Pahang, Malaysia
END:VEVENT
END:VCALENDAR
