
BEGIN:VCALENDAR
VERSION:2.0
PRODID:-//Jeju Poker Festival//Jeju Poker Festival 2025//NLH Hyper Turbo //EN
BEGIN:VEVENT
UID:01000000-a9fe-0a58-45f5-08ddefa3cb0c
DTSTAMP;TZID=Asia/Seoul:20251101T210000
DTSTART;TZID=Asia/Seoul:20251101T210000
DTEND;TZID=Asia/Seoul:20251101T235959
SUMMARY:NLH Hyper Turbo 
DESCRIPTION:Game: Texas Hold'em (NL)\nBuy-In: 425,000 + 75,000 KRW\nStack: 20,000\nLevels: 10 min\nLate Reg: 8 lvl @ 22:35
LOCATION:LES A Casino, Jeju, South Korea
END:VEVENT
END:VCALENDAR
