
BEGIN:VCALENDAR
VERSION:2.0
PRODID:-//Asia Pacific Poker Tour//APPT Championship 2026//Hyper Turbo//EN
BEGIN:VEVENT
UID:01000000-3971-2ef2-889f-08de90b469d1
DTSTAMP;TZID=Asia/Manila:20261008T210000
DTSTART;TZID=Asia/Manila:20261008T210000
DTEND;TZID=Asia/Manila:20261008T235959
SUMMARY:Hyper Turbo
DESCRIPTION:Game: Texas Hold'em (NL)\nBuy-In: 4,224 + 776 PHP\nStack: 20,000\nLevels: 10 min\nLate Reg: @ 22:20
LOCATION:Okada Manila, Manila, Philippines
END:VEVENT
END:VCALENDAR
