
BEGIN:VCALENDAR
VERSION:2.0
PRODID:-//Asia Pacific Poker Tour//APPT Manila 2025//High Roller - Warm-up - Cancelled//EN
BEGIN:VEVENT
UID:01000000-a9fe-0a58-6d2f-08dda2a1d60c
DTSTAMP;TZID=Asia/Manila:20250724T140000
DTSTART;TZID=Asia/Manila:20250724T140000
DTEND;TZID=Asia/Manila:20250724T235959
SUMMARY:High Roller - Warm-up - Cancelled
DESCRIPTION:Game: Texas Hold'em (NL)\nBuy-In: 80,000 +  PHP\nStack: 100,000\nLevels: 30 min\nLate Reg: 8 lvl @ 18:20
LOCATION:Okada Manila, Manila, Philippines
END:VEVENT
END:VCALENDAR
