
BEGIN:VCALENDAR
VERSION:2.0
PRODID:-//Poker Dream//Poker Dream 22 Jeju//High Roller - Single Day //EN
BEGIN:VEVENT
UID:01000000-3971-2ef2-319d-08de9a1d1429
DTSTAMP;TZID=Asia/Seoul:20260502T150000
DTSTART;TZID=Asia/Seoul:20260502T150000
DTEND;TZID=Asia/Seoul:20260502T235959
SUMMARY:High Roller - Single Day 
DESCRIPTION:Game: Texas Hold'em (NL)\nBuy-In: 2,790,000 + 210,000 KRW\nStack: 200,000\nLevels: 30 min\nLate Reg: 8 lvl @ 20:15
LOCATION:LES A Casino, Jeju, South Korea
END:VEVENT
END:VCALENDAR
