
BEGIN:VCALENDAR
VERSION:2.0
PRODID:-//World Poker Games//WPG Taiwan 2026//Head Hunter | 3K Bounty//EN
BEGIN:VEVENT
UID:01000000-4909-3915-518f-08de9c6bd081
DTSTAMP;TZID=Asia/Taipei:20260524T140000
DTSTART;TZID=Asia/Taipei:20260524T140000
DTEND;TZID=Asia/Taipei:20260524T235959
SUMMARY:Head Hunter | 3K Bounty
DESCRIPTION:Game: Texas Hold'em (NL)\nBuy-In: 8,800 + 1,200 TWD\nGTD: 300,000 TWD\nStack: 25,000\nLevels: 20 min\nLate Reg: 11 lvl @  17:50
LOCATION:CTP Asia Poker Arena, Taipei City, Taiwan
END:VEVENT
END:VCALENDAR
