
BEGIN:VCALENDAR
VERSION:2.0
PRODID:-//Asia Pacific Poker Tour//APPT Championship 2026//Charity Event [R+A]//EN
BEGIN:VEVENT
UID:01000000-3971-2ef2-66a8-08de90b46ea0
DTSTAMP;TZID=Asia/Manila:20261018T110000
DTSTART;TZID=Asia/Manila:20261018T110000
DTEND;TZID=Asia/Manila:20261018T235959
SUMMARY:Charity Event [R+A]
DESCRIPTION:Game: Texas Hold'em (NL)\nBuy-In:  +  PHP\nGTD: 500,000 PHP\nStack: 15,000\nLevels: 20 min\nLate Reg: @ 14:00
LOCATION:Okada Manila, Manila, Philippines
END:VEVENT
END:VCALENDAR
