
BEGIN:VCALENDAR
VERSION:2.0
PRODID:-//Asia Pacific Poker Tour//APPT Championship 2026//Midnight Super Hyper Turbo//EN
BEGIN:VEVENT
UID:01000000-3971-2ef2-1a5a-08de90b46e89
DTSTAMP;TZID=Asia/Manila:20261017T235900
DTSTART;TZID=Asia/Manila:20261017T235900
DTEND;TZID=Asia/Manila:20261017T235959
SUMMARY:Midnight Super Hyper Turbo
DESCRIPTION:Game: Texas Hold'em (NL)\nBuy-In: 8,448 + 1,552 PHP\nStack: 50,000\nLevels: 5 min\nLate Reg: @ 1:04
LOCATION:Okada Manila, Manila, Philippines
END:VEVENT
END:VCALENDAR
