
BEGIN:VCALENDAR
VERSION:2.0
PRODID:-//Asia Pacific Poker Tour//APPT Championship 2026//High Roller - Turbo//EN
BEGIN:VEVENT
UID:01000000-3971-2ef2-17d5-08de90b46e71
DTSTAMP;TZID=Asia/Manila:20261017T200000
DTSTART;TZID=Asia/Manila:20261017T200000
DTEND;TZID=Asia/Manila:20261017T235959
SUMMARY:High Roller - Turbo
DESCRIPTION:Game: Texas Hold'em (NL)\nBuy-In: 88,320 + 11,680 PHP\nStack: 100,000\nLevels: 15 min\nLate Reg: @ 22:40
LOCATION:Okada Manila, Manila, Philippines
END:VEVENT
END:VCALENDAR
