
BEGIN:VCALENDAR
VERSION:2.0
PRODID:-//Asia Pacific Poker Tour//APPT Championship 2026//NLH - 20/15/10//EN
BEGIN:VEVENT
UID:01000000-3971-2ef2-1e64-08de90b46e7d
DTSTAMP;TZID=Asia/Manila:20261017T200000
DTSTART;TZID=Asia/Manila:20261017T200000
DTEND;TZID=Asia/Manila:20261017T235959
SUMMARY:NLH - 20/15/10
DESCRIPTION:Game: Texas Hold'em (NL)\nBuy-In: 12,960 + 2,040 PHP\nStack: 30,000\nLevels: 20 min\nLate Reg: @ 22:10
LOCATION:Okada Manila, Manila, Philippines
END:VEVENT
END:VCALENDAR
