
BEGIN:VCALENDAR
VERSION:2.0
PRODID:-//Asia Pacific Poker Tour//APPT Championship 2026//Freezeout - Turbo//EN
BEGIN:VEVENT
UID:01000000-3971-2ef2-4a11-08de90b46e64
DTSTAMP;TZID=Asia/Manila:20261017T180000
DTSTART;TZID=Asia/Manila:20261017T180000
DTEND;TZID=Asia/Manila:20261017T235959
SUMMARY:Freezeout - Turbo
DESCRIPTION:Game: Texas Hold'em (NL)\nBuy-In: 30,240 + 4,760 PHP\nStack: 25,000\nLevels: 15 min\nLate Reg: @ 20:10
LOCATION:Okada Manila, Manila, Philippines
END:VEVENT
END:VCALENDAR
