
BEGIN:VCALENDAR
VERSION:2.0
PRODID:-//Asia Pacific Poker Tour//APPT Championship 2026//Ladies Championship//EN
BEGIN:VEVENT
UID:01000000-3971-2ef2-f403-08de90b46e35
DTSTAMP;TZID=Asia/Manila:20261017T140000
DTSTART;TZID=Asia/Manila:20261017T140000
DTEND;TZID=Asia/Manila:20261017T235959
SUMMARY:Ladies Championship
DESCRIPTION:Game: Texas Hold'em (NL)\nBuy-In: 12,672 + 2,328 PHP\nStack: 30,000\nLevels: 20 min\nLate Reg: @ 16:20
LOCATION:Okada Manila, Manila, Philippines
END:VEVENT
END:VCALENDAR
