
BEGIN:VCALENDAR
VERSION:2.0
PRODID:-//Asia Pacific Poker Tour//APPT Championship 2026//Big O//EN
BEGIN:VEVENT
UID:01000000-3971-2ef2-7b63-08de90b46e2a
DTSTAMP;TZID=Asia/Manila:20261017T130000
DTSTART;TZID=Asia/Manila:20261017T130000
DTEND;TZID=Asia/Manila:20261017T235959
SUMMARY:Big O
DESCRIPTION:Game: Mixed (PL)\nBuy-In: 30,240 + 4,760 PHP\nStack: 25,000\nLevels: 30 min\nLate Reg: @ 17:20
LOCATION:Okada Manila, Manila, Philippines
END:VEVENT
END:VCALENDAR
