
BEGIN:VCALENDAR
VERSION:2.0
PRODID:-//PokerStars Live//Manila Megastack 23//PLO Bomb Pot//EN
BEGIN:VEVENT
UID:01000000-a9fe-0a58-d11e-08de14aa34a7
DTSTAMP;TZID=Asia/Manila:20251128T180000
DTSTART;TZID=Asia/Manila:20251128T180000
DTEND;TZID=Asia/Manila:20251128T235959
SUMMARY:PLO Bomb Pot
DESCRIPTION:Game: Omaha (PL)\nBuy-In: 13,200 + 1,800 PHP\nStack: 30,000\nLevels: 20 min\nLate Reg: 8 lvl @ 21:00
LOCATION:Okada Manila, Manila, Philippines
END:VEVENT
END:VCALENDAR
