
BEGIN:VCALENDAR
VERSION:2.0
PRODID:-//Royal Poker Tour//RPT Championship III//NO LIMIT HOLDEM (8-MAX)//EN
BEGIN:VEVENT
UID:01000000-4909-3915-2b1e-08de9ed441ac
DTSTAMP;TZID=Asia/Hanoi:20260604T130000
DTSTART;TZID=Asia/Hanoi:20260604T130000
DTEND;TZID=Asia/Hanoi:20260604T235959
SUMMARY:NO LIMIT HOLDEM (8-MAX)
DESCRIPTION:Game: Texas Hold'em (NL)\nBuy-In: 8,000,000 + 800,000 VND\nStack: 50,000\nLevels: 30 min\nLate Reg: 10 lvl @ 18:00
LOCATION:Royal Poker Club, Hanoi, Viet Nam
END:VEVENT
END:VCALENDAR
