
BEGIN:VCALENDAR
VERSION:2.0
PRODID:-//World Poker Games//World Poker Games Taiwan 2026//NLH //EN
BEGIN:VEVENT
UID:01000000-4909-3915-3bc7-08de9c6bd06a
DTSTAMP;TZID=Asia/Taipei:20260524T113000
DTSTART;TZID=Asia/Taipei:20260524T113000
DTEND;TZID=Asia/Taipei:20260524T235959
SUMMARY:NLH 
DESCRIPTION:Game: Texas Hold'em (NL)\nBuy-In: 4,400 + 600 TWD\nStack: 20,000\nLevels: 20 min\nLate Reg: 9 lvl @  14:40
LOCATION:CTP Asia Poker Arena, Taipei City, Taiwan
END:VEVENT
END:VCALENDAR
