
BEGIN:VCALENDAR
VERSION:2.0
PRODID:-//Asia Pacific Poker Tour//APPT Championship 2026//Mystery Bounty//EN
BEGIN:VEVENT
UID:01000000-3971-2ef2-919d-08de90b46eab
DTSTAMP;TZID=Asia/Manila:20261017T130000
DTSTART;TZID=Asia/Manila:20261017T130000
DTEND;TZID=Asia/Manila:20261018T235959
SUMMARY:Mystery Bounty
DESCRIPTION:Game: Texas Hold'em (NL)\nBuy-In: 21,120 + 3,880 PHP\nGTD: 5,000,000 PHP\nStack: 30,000
LOCATION:Okada Manila, Manila, Philippines
END:VEVENT
END:VCALENDAR
