
BEGIN:VCALENDAR
VERSION:2.0
PRODID:-//Asia Pacific Poker Tour//APPT Championship 2026//Super Hyper Turbo//EN
BEGIN:VEVENT
UID:01000000-3971-2ef2-fff2-08de90b46dfc
DTSTAMP;TZID=Asia/Manila:20261016T230000
DTSTART;TZID=Asia/Manila:20261016T230000
DTEND;TZID=Asia/Manila:20261016T235959
SUMMARY:Super Hyper Turbo
DESCRIPTION:Game: Texas Hold'em (NL)\nBuy-In: 8,448 + 1,552 PHP\nStack: 50,000\nLevels: 5 min\nLate Reg: @ 0:05
LOCATION:Okada Manila, Manila, Philippines
END:VEVENT
END:VCALENDAR
